BEGIN:VCALENDAR
VERSION:2.0
PRODID:-//West Wiltshire Youth Sailing Association - ECPv6.15.20//NONSGML v1.0//EN
CALSCALE:GREGORIAN
METHOD:PUBLISH
X-WR-CALNAME:West Wiltshire Youth Sailing Association
X-ORIGINAL-URL:https://wwysa.org.uk
X-WR-CALDESC:Events for West Wiltshire Youth Sailing Association
REFRESH-INTERVAL;VALUE=DURATION:PT1H
X-Robots-Tag:noindex
X-PUBLISHED-TTL:PT1H
BEGIN:VTIMEZONE
TZID:Europe/London
BEGIN:DAYLIGHT
TZOFFSETFROM:+0000
TZOFFSETTO:+0100
TZNAME:BST
DTSTART:20240331T010000
END:DAYLIGHT
BEGIN:STANDARD
TZOFFSETFROM:+0100
TZOFFSETTO:+0000
TZNAME:GMT
DTSTART:20241027T010000
END:STANDARD
BEGIN:DAYLIGHT
TZOFFSETFROM:+0000
TZOFFSETTO:+0100
TZNAME:BST
DTSTART:20250330T010000
END:DAYLIGHT
BEGIN:STANDARD
TZOFFSETFROM:+0100
TZOFFSETTO:+0000
TZNAME:GMT
DTSTART:20251026T010000
END:STANDARD
BEGIN:DAYLIGHT
TZOFFSETFROM:+0000
TZOFFSETTO:+0100
TZNAME:BST
DTSTART:20260329T010000
END:DAYLIGHT
BEGIN:STANDARD
TZOFFSETFROM:+0100
TZOFFSETTO:+0000
TZNAME:GMT
DTSTART:20261025T010000
END:STANDARD
BEGIN:DAYLIGHT
TZOFFSETFROM:+0000
TZOFFSETTO:+0100
TZNAME:BST
DTSTART:20270328T010000
END:DAYLIGHT
BEGIN:STANDARD
TZOFFSETFROM:+0100
TZOFFSETTO:+0000
TZNAME:GMT
DTSTART:20271031T010000
END:STANDARD
END:VTIMEZONE
BEGIN:VEVENT
DTSTART;TZID=Europe/London:20260328T000000
DTEND;TZID=Europe/London:20260328T000000
DTSTAMP:20260422T093912
CREATED:20260125T191512Z
LAST-MODIFIED:20260201T163953Z
UID:5479-1774656000-1774656000@wwysa.org.uk
SUMMARY:RC Boats Warminster J Day
DESCRIPTION:Our RC Boats team hosts this special J Class sailing day – a great opportunity for section members to get together and enjoy some friendly sailing. For more information\, contact rcboats@wwysa.org.uk
URL:https://wwysa.org.uk/event-details/rc-boats-j-day-session/
CATEGORIES:WWYSA RC Boats
ATTACH;FMTTYPE=image/jpeg:https://wwysa.org.uk/wp-content/uploads/2024/11/Oct-24-Model-Boats-1-of-10.jpeg
END:VEVENT
BEGIN:VEVENT
DTSTART;TZID=Europe/London:20250518T100000
DTEND;TZID=Europe/London:20250518T160000
DTSTAMP:20260422T093912
CREATED:20250414T120147Z
LAST-MODIFIED:20260201T152616Z
UID:5080-1747562400-1747584000@wwysa.org.uk
SUMMARY:Model Boats - J Class Open Day
DESCRIPTION:[vc_row][vc_column][vc_column_text css=”” css_params=””]WWYSA RC Boats team are running their annual J Class Open Day. \nClick for further details[/vc_column_text][/vc_column][/vc_row]
URL:https://wwysa.org.uk/event-details/model-boats-j-class-open-day/
LOCATION:Westbury Lake\, Station Approach\, Westbury\, Wiltshire\, BA13 4HP\, United Kingdom
CATEGORIES:WWYSA RC Boats
ATTACH;FMTTYPE=image/png:https://wwysa.org.uk/wp-content/uploads/2025/04/wwysa-rcb-blog-jclass-openday.png
ORGANIZER;CN="WWYSA RC Boats":MAILTO:rcboats@wwysa.org.uk
END:VEVENT
END:VCALENDAR